BEGIN:VCALENDAR
VERSION:2.0
PRODID:-//Les Anxovetes - Grup d&#039;havaneres - Havaneres, cançons de taverna i espectacles - ECPv6.15.18//NONSGML v1.0//EN
CALSCALE:GREGORIAN
METHOD:PUBLISH
X-WR-CALNAME:Les Anxovetes - Grup d&#039;havaneres - Havaneres, cançons de taverna i espectacles
X-ORIGINAL-URL:https://www.lesanxovetes.cat
X-WR-CALDESC:Esdeveniments per Les Anxovetes - Grup d&#039;havaneres - Havaneres, cançons de taverna i espectacles
REFRESH-INTERVAL;VALUE=DURATION:PT1H
X-Robots-Tag:noindex
X-PUBLISHED-TTL:PT1H
BEGIN:VTIMEZONE
TZID:Europe/Madrid
BEGIN:DAYLIGHT
TZOFFSETFROM:+0100
TZOFFSETTO:+0200
TZNAME:CEST
DTSTART:20190331T010000
END:DAYLIGHT
BEGIN:STANDARD
TZOFFSETFROM:+0200
TZOFFSETTO:+0100
TZNAME:CET
DTSTART:20191027T010000
END:STANDARD
BEGIN:DAYLIGHT
TZOFFSETFROM:+0100
TZOFFSETTO:+0200
TZNAME:CEST
DTSTART:20200329T010000
END:DAYLIGHT
BEGIN:STANDARD
TZOFFSETFROM:+0200
TZOFFSETTO:+0100
TZNAME:CET
DTSTART:20201025T010000
END:STANDARD
BEGIN:DAYLIGHT
TZOFFSETFROM:+0100
TZOFFSETTO:+0200
TZNAME:CEST
DTSTART:20210328T010000
END:DAYLIGHT
BEGIN:STANDARD
TZOFFSETFROM:+0200
TZOFFSETTO:+0100
TZNAME:CET
DTSTART:20211031T010000
END:STANDARD
END:VTIMEZONE
BEGIN:VEVENT
DTSTART;TZID=Europe/Madrid:20200918T210000
DTEND;TZID=Europe/Madrid:20200918T210000
DTSTAMP:20260423T190342
CREATED:20200630T105945Z
LAST-MODIFIED:20220907T055912Z
UID:10000126-1600462800-1600462800@www.lesanxovetes.cat
SUMMARY:Sant Julià de Ramis
DESCRIPTION:
URL:https://www.lesanxovetes.cat/concert/sant-julia-de-ramis/
LOCATION:Sant Julià de Ramis\, Sant Julià de Ramis\, el Gironès\, Espanya
END:VEVENT
END:VCALENDAR